BEGIN:VCALENDAR
VERSION:2.0
PRODID:icalendar-ruby
CALSCALE:GREGORIAN
BEGIN:VEVENT
DTSTAMP:20260424T161516Z
UID:e9c70e0a-2bb7-479b-ace1-03ec03321d4c
DTSTART:20241106T193000Z
DTEND:20241106T193001Z
SUMMARY:School Photos
END:VEVENT
END:VCALENDAR
