BEGIN:VCALENDAR
VERSION:2.0
PRODID:icalendar-ruby
CALSCALE:GREGORIAN
BEGIN:VEVENT
DTSTAMP:20260424T161508Z
UID:cd0c227a-b90a-43d8-b273-2d2468e10f5d
DTSTART;VALUE=DATE:20241212
DTEND;VALUE=DATE:20241213
SUMMARY:End of Year Celebration Day
END:VEVENT
END:VCALENDAR
