BEGIN:VCALENDAR
VERSION:2.0
PRODID:icalendar-ruby
CALSCALE:GREGORIAN
BEGIN:VEVENT
DTSTAMP:20260424T161507Z
UID:1a022f76-e646-445c-bbbf-c05e3b0c2437
DTSTART:20241215T193000Z
DTEND:20241215T233001Z
DESCRIPTION:School finishes at 12:30pm
SUMMARY:End of Term 4
END:VEVENT
END:VCALENDAR
