BEGIN:VCALENDAR
VERSION:2.0
PRODID:icalendar-ruby
CALSCALE:GREGORIAN
BEGIN:VEVENT
DTSTAMP:20260424T161509Z
UID:ed1ccd64-d0ab-4abf-9f6d-45bcb09d33e4
DTSTART:20250202T193000Z
DTEND:20250202T193001Z
DESCRIPTION:School starts at 8:30am. Please ensure your child has their sta
 tionery requirements for the year as per lists sent home at the end of Ter
 m 4.
SUMMARY:Term 1 Begins
END:VEVENT
END:VCALENDAR
