BEGIN:VCALENDAR
VERSION:2.0
PRODID:icalendar-ruby
CALSCALE:GREGORIAN
BEGIN:VEVENT
DTSTAMP:20260424T161502Z
UID:7cc4d670-538f-42b2-bbb0-11c743dbea6a
DTSTART:20241204T060000Z
DTEND:20241204T060001Z
LOCATION:Morrinsville Theatre\, Anderson Street\, Morrinsville
SUMMARY:School Prizegiving
END:VEVENT
END:VCALENDAR
