BEGIN:VCALENDAR
VERSION:2.0
PRODID:icalendar-ruby
CALSCALE:GREGORIAN
BEGIN:VEVENT
DTSTAMP:20260424T161509Z
UID:38cc0c69-1dbd-41d9-80ce-dab1e344b83d
DTSTART:20241122T013000Z
DTEND:20241122T013001Z
LOCATION:Motumaoho School
SUMMARY:PTA AGM
END:VEVENT
END:VCALENDAR
