BEGIN:VCALENDAR
VERSION:2.0
PRODID:icalendar-ruby
CALSCALE:GREGORIAN
BEGIN:VEVENT
DTSTAMP:20260424T161502Z
UID:42e170f8-80b0-4610-a8e9-543662c6b79d
DTSTART:20241115T005000Z
DTEND:20241115T013001Z
SUMMARY:Assembly
END:VEVENT
END:VCALENDAR
