BEGIN:VCALENDAR
VERSION:2.0
PRODID:icalendar-ruby
CALSCALE:GREGORIAN
BEGIN:VEVENT
DTSTAMP:20260424T161503Z
UID:de6dcb93-63d6-4120-ba2b-7dd36492db0f
DTSTART:20241107T060000Z
DTEND:20241107T060001Z
SUMMARY:BOT Meeting
END:VEVENT
END:VCALENDAR
