BEGIN:VCALENDAR
VERSION:2.0
PRODID:icalendar-ruby
CALSCALE:GREGORIAN
BEGIN:VEVENT
DTSTAMP:20260424T161508Z
UID:2f35fcc5-5d15-4724-b05f-ebe70a65da97
DTSTART:20241205T060000Z
DTEND:20241205T060001Z
SUMMARY:BOT Meeting (TBC)
END:VEVENT
END:VCALENDAR
