BEGIN:VCALENDAR
VERSION:2.0
PRODID:icalendar-ruby
CALSCALE:GREGORIAN
BEGIN:VEVENT
DTSTAMP:20260424T161502Z
UID:6a598208-62a8-4db2-afd9-19d672a6f6c9
DTSTART:20241129T005000Z
DTEND:20241129T013001Z
SUMMARY:Assembly
END:VEVENT
END:VCALENDAR
