BEGIN:VCALENDAR
VERSION:2.0
PRODID:icalendar-ruby
CALSCALE:GREGORIAN
BEGIN:VEVENT
DTSTAMP:20260424T161515Z
UID:66857868-9f62-4956-ad66-d1cd552b6783
DTSTART:20241213T005000Z
DTEND:20241213T013001Z
SUMMARY:End of Year Assembly
END:VEVENT
END:VCALENDAR
